BEGIN:VCALENDAR
VERSION:2.0
PRODID:-//TYPO3/NONSGML Calendarize//EN
BEGIN:VEVENT
UID:calendarize-stadtradeln-gronau
DTSTAMP:20260424T130743Z
DTSTART:20260430T220000Z
DTEND:20260521T215500Z
SUMMARY:Stadtradeln Gronau Grüne/Linke
DESCRIPTION:Stadtradeln Gronau vom 1. bis 21. Mai 2026 - Team Grüne/Linke
 \nZum Stadtradeln 2026 hat unser Fraktionsvorsitzender Klaus Bieber ein Te
 am für die Grünen und die Linken angemeldet\, die ja als Fraktion im Rat
  zusammenarbeiten. \nAlle\, die dieses Team unterstützen wollen\, könne
 n mitmachen!\nKlaus schreibt dazu:\n"Wie auch schon in den letzten Jahren 
 findet wieder das Stadtradeln im Zeitraum vom 1. – 21. Mai 2026 statt.\n
 Ich habe uns als Team „BÜNDNIS 90/DIE GRÜNEN & DIE LINKE“ angemeldet
 .\nHier ist der Link für die Anmeldung bei unserem Team:\nhttps://www.sta
 dtradeln.de/index.php?id=171&L=0&team_preselect=26570\nGebt das bitte weit
 er.\nVielen Dank.\nLG\nKlaus Bieber"\nAls Auftakt gibt es eine Veranstaltu
 ng der Stadt am 1. Mai  am Minigolfplatz in Epe von 11 bis 13 Uhr.  Info
  zu dieser Veranstaltung unter: https://www.gronau.de/rathaus/news/2026/ne
 ws-april-2026/stadtradeln-2026-auftakt-am-minigolfplatz-in-epe/\nWeitere I
 nfo auf der Website der Stadt Gronau unter https://www.gronau.de/leben-in-
 gronau/freizeit/stadtradeln/
X-ALT-DESC;FMTTYPE=text/html:<p><strong>Stadtradeln Gronau vom 1. bis 21. 
 Mai 2026 - Team Grüne/Linke</strong></p>\n<p>Zum Stadtradeln 2026 hat uns
 er Fraktionsvorsitzender Klaus Bieber ein Team für die Grünen und die Li
 nken angemeldet\, die ja als Fraktion im Rat zusammenarbeiten.&nbsp\;</p>\
 n<p>Alle\, die dieses Team unterstützen wollen\, können mitmachen!</p>\n
 <p>Klaus schreibt dazu:</p>\n<p>"Wie auch schon in den letzten Jahren find
 et wieder das Stadtradeln im Zeitraum vom 1. – 21. Mai 2026 statt.</p>\n
 <p>Ich habe uns als Team „BÜNDNIS 90/DIE GRÜNEN &amp\; DIE LINKE“ an
 gemeldet.</p>\n<p>Hier ist der Link für die Anmeldung bei unserem Team:</
 p>\n<p><a href="https://deref-web.de/mail/client/CvnuK0nL42Q/dereferrer/?r
 edirectUrl=https%3A%2F%2Fwww.stadtradeln.de%2Findex.php%3Fid%3D171%26L%3D0
 %26team_preselect%3D26570" target="_blank">https://www.stadtradeln.de/inde
 x.php?id=171&amp\;L=0&amp\;team_preselect=26570</a></p>\n<p>Gebt das bitte
  weiter.</p>\n<p>Vielen Dank.</p>\n<p>LG</p>\n<p>Klaus Bieber"</p>\n<p>Als
  Auftakt gibt es eine Veranstaltung der Stadt am 1. Mai&nbsp\;<br /> am Mi
 nigolfplatz in Epe von 11 bis 13 Uhr.&nbsp\;<br /> Info zu dieser Veransta
 ltung unter:<br /> <a href="https://www.gronau.de/rathaus/news/2026/news-a
 pril-2026/stadtradeln-2026-auftakt-am-minigolfplatz-in-epe/">https://www.g
 ronau.de/rathaus/news/2026/news-april-2026/stadtradeln-2026-auftakt-am-min
 igolfplatz-in-epe/</a></p>\n<p>Weitere Info auf der Website der Stadt Gron
 au unter<br /> <a href="https://www.gronau.de/leben-in-gronau/freizeit/sta
 dtradeln/">https://www.gronau.de/leben-in-gronau/freizeit/stadtradeln/</a>
 </p>
LOCATION:Minigolfplatz Epe\, Alfertring 54\, 48599 Gronau (https://www.gro
 nau.de/rathaus/news/2026/news-april-2026/stadtradeln-2026-auftakt-am-minig
 olfplatz-in-epe/)
END:VEVENT
END:VCALENDAR
